BEGIN:VCALENDAR
VERSION:2.0
PRODID:-//AAPIC - ECPv6.15.16//NONSGML v1.0//EN
CALSCALE:GREGORIAN
METHOD:PUBLISH
X-ORIGINAL-URL:https://aapicommission.org
X-WR-CALDESC:Events for AAPIC
REFRESH-INTERVAL;VALUE=DURATION:PT1H
X-Robots-Tag:noindex
X-PUBLISHED-TTL:PT1H
BEGIN:VTIMEZONE
TZID:UTC
BEGIN:STANDARD
TZOFFSETFROM:+0000
TZOFFSETTO:+0000
TZNAME:UTC
DTSTART:20230101T000000
END:STANDARD
END:VTIMEZONE
BEGIN:VEVENT
DTSTART;VALUE=DATE:20240709
DTEND;VALUE=DATE:20240710
DTSTAMP:20260419T110156
CREATED:20240709T145739Z
LAST-MODIFIED:20251107T082817Z
UID:15480-1720483200-1720569599@aapicommission.org
SUMMARY:Asian American Students in Action (AASiA)
DESCRIPTION:AASiA serves as the coalition for API groups and acts to foster the Asian American community and political action on the Williams campus. Through social activities\, discussion-based events\, and political activism\, AASiA strives to provide a forum for community-building\, cross-cultural exchange\, and political organizing.
URL:https://aapicommission.org/upcoming-event/asian-american-students-in-action-aasia/
LOCATION:Berkshire County\, 20 Morley Dr\, Williamstown\, Berkshire County\, MA 01267\, United States
CATEGORIES:Community Organizations
ATTACH;FMTTYPE=image/png:https://aapicommission.org/wp-content/uploads/2024/06/Untitled-design.png
END:VEVENT
BEGIN:VEVENT
DTSTART;VALUE=DATE:20240709
DTEND;VALUE=DATE:20240710
DTSTAMP:20260419T110156
CREATED:20240709T150155Z
LAST-MODIFIED:20251107T082817Z
UID:15483-1720483200-1720569599@aapicommission.org
SUMMARY:BASIC: Berkshire Alliance to Support the Immigrant Community
DESCRIPTION:BASIC seeks to bring together the agencies that serve immigrants in Berkshire County. BASIC is currently the only convener that meets across sectors with the focus on immigrants in our community.
URL:https://aapicommission.org/upcoming-event/basic-berkshire-alliance-to-support-the-immigrant-community/
LOCATION:Berkshire County\, 20 Morley Dr\, Williamstown\, Berkshire County\, MA 01267\, United States
CATEGORIES:Community Organizations
ATTACH;FMTTYPE=image/png:https://aapicommission.org/wp-content/uploads/2024/06/Untitled-design.png
END:VEVENT
BEGIN:VEVENT
DTSTART;VALUE=DATE:20240709
DTEND;VALUE=DATE:20240710
DTSTAMP:20260419T110156
CREATED:20240709T150618Z
LAST-MODIFIED:20251107T082817Z
UID:15487-1720483200-1720569599@aapicommission.org
SUMMARY:Berkshire Immigrant Center
DESCRIPTION:Berkshire Immigrant Center provides its clients with tools to help them overcome financial and cultural barriers\, with the goals of strengthening civic engagement and creating equal opportunity for all. Berkshire Immigrant Center supports changes to systems which are unjust to immigrants\, and supports state and national immigration advocacy efforts.
URL:https://aapicommission.org/upcoming-event/berkshire-immigrant-center/
LOCATION:Berkshire County\, 20 Morley Dr\, Williamstown\, Berkshire County\, MA 01267\, United States
CATEGORIES:Community Organizations
ATTACH;FMTTYPE=image/png:https://aapicommission.org/wp-content/uploads/2024/06/Untitled-design.png
ORGANIZER;CN="Support":MAILTO:info@berkshireic.org
END:VEVENT
BEGIN:VEVENT
DTSTART;VALUE=DATE:20240709
DTEND;VALUE=DATE:20240710
DTSTAMP:20260419T110156
CREATED:20240709T151100Z
LAST-MODIFIED:20251107T082817Z
UID:15490-1720483200-1720569599@aapicommission.org
SUMMARY:The Davis Center
DESCRIPTION:The Davis Center advances broad campus engagement with complex issues of identity\, history\, and cultures as they affect intellectual\, creative\, and social life.
URL:https://aapicommission.org/upcoming-event/the-davis-center/
LOCATION:Berkshire County\, 20 Morley Dr\, Williamstown\, Berkshire County\, MA 01267\, United States
CATEGORIES:Community Organizations
ATTACH;FMTTYPE=image/png:https://aapicommission.org/wp-content/uploads/2024/06/Untitled-design.png
ORGANIZER;CN="Student":MAILTO:nrm4​@williams​.edu
END:VEVENT
BEGIN:VEVENT
DTSTART;VALUE=DATE:20240711
DTEND;VALUE=DATE:20240712
DTSTAMP:20260419T110156
CREATED:20240711T141513Z
LAST-MODIFIED:20251107T082817Z
UID:15531-1720656000-1720742399@aapicommission.org
SUMMARY:Asian American and Pacific Islanders Commission
DESCRIPTION:The Massachusetts Asian American & Pacific Islanders Commission (AAPIC) is the Commonwealth’s only permanent\, statewide body dedicated to addressing the needs and challenges of the AAPI community. The AAPIC provides programs\, education\, resources\, and advocacy throughout Massachusetts.
URL:https://aapicommission.org/upcoming-event/asian-american-and-pacific-islanders-commission/
LOCATION:Statewide\, MA\, United States
CATEGORIES:Community Organizations
ATTACH;FMTTYPE=image/png:https://aapicommission.org/wp-content/uploads/2024/06/Untitled-design.png
ORGANIZER;CN="Political/Advocacy":MAILTO:aapic@aapicommission.org
END:VEVENT
BEGIN:VEVENT
DTSTART;VALUE=DATE:20240715
DTEND;VALUE=DATE:20240716
DTSTAMP:20260419T110156
CREATED:20240715T101504Z
LAST-MODIFIED:20251107T082817Z
UID:15572-1721001600-1721087999@aapicommission.org
SUMMARY:Harvard Square Philippine American Alliance
DESCRIPTION:The Harvard Square Philippine American Alliance is a non-profit organization that believes in bringing the community together through cultural events that celebrate the core values of the rich and deeply rooted ancestry of the Filipino people. Our goal is to organize events on an annual basis in partnership with business owners and community leaders.​
URL:https://aapicommission.org/upcoming-event/harvard-square-philippine-american-alliance/
LOCATION:Middlesex County\, 124 Ferry Street\, Malden\, Middlesex County\, MA 02148\, United States
CATEGORIES:Community Organizations
ATTACH;FMTTYPE=image/png:https://aapicommission.org/wp-content/uploads/2024/06/Untitled-design.png
ORGANIZER;CN="Community":MAILTO:contact@hspaa.org
END:VEVENT
BEGIN:VEVENT
DTSTART;VALUE=DATE:20240808
DTEND;VALUE=DATE:20240809
DTSTAMP:20260419T110156
CREATED:20240808T115249Z
LAST-MODIFIED:20251107T082817Z
UID:15972-1723075200-1723161599@aapicommission.org
SUMMARY:Test Community Organization
DESCRIPTION:APALSA was created for WNE law students of any background that have an interest in Asian culture\, promoting diversity in law\, and advocating for the AAPI community in Western Massachusetts.\nIn the past year\, the club organized fun cultural events\, a mentoring dinner\, and worked with local\, state\, and national AAPI organizations which led to the opportunity to lobby for AAPI interests in Washington\, DC.
URL:https://aapicommission.org/upcoming-event/test-community-organization/
LOCATION:Bernalillo\, Boston\, Suffolk County\, MA\, United States
CATEGORIES:Community Organizations
ATTACH;FMTTYPE=image/png:https://aapicommission.org/wp-content/uploads/2024/06/Untitled-design.png
END:VEVENT
BEGIN:VEVENT
DTSTART;VALUE=DATE:20240624
DTEND;VALUE=DATE:20240625
DTSTAMP:20260419T110156
CREATED:20240624T133508Z
LAST-MODIFIED:20251107T082739Z
UID:13846-1719187200-1719273599@aapicommission.org
SUMMARY:Harvard University Hawaii Club
DESCRIPTION:Aloha! The goal of Holoimua o Hawai’i is to foster a strong community among Harvard students with ties to Hawai’i through cultural events and activities.
URL:https://aapicommission.org/upcoming-event/harvard-university-hawaii-club/
LOCATION:Middlesex County\, 124 Ferry Street\, Malden\, Middlesex County\, MA 02148\, United States
CATEGORIES:Community Organizations
ATTACH;FMTTYPE=image/png:https://aapicommission.org/wp-content/uploads/2024/06/Untitled-design.png
ORGANIZER;CN="Student":MAILTO:austinchang@college.harvard.edu
END:VEVENT
BEGIN:VEVENT
DTSTART;VALUE=DATE:20240624
DTEND;VALUE=DATE:20240625
DTSTAMP:20260419T110156
CREATED:20240624T133709Z
LAST-MODIFIED:20251107T082739Z
UID:13853-1719187200-1719273599@aapicommission.org
SUMMARY:Hawaii Ohana at Northeastern University
DESCRIPTION:With Northeastern expanding its reach around the world\, an increasing number of students from Hawai’i are enrolling at the university. The growing population of Hawai’i students in the Boston area can benefit from connecting to each other through our shared background. Thus\, the Hawai’i Ohana at Northeastern University (HONU) was formed to bring together people who the share the Aloha spirit. Not restricted to those originating from Hawaii\, HONU accepts people of all different backgrounds who have an interest in Hawaii’s culture. Our organization is here to be a hanai ‘ohana (adoptive family) to students at Northeastern who want to keep connected with home. We also want to share our state’s unique traditions through fun activities and events. On a broader scale\, we hope to connect with other students in the area to build the Boston/Hawaii network.
URL:https://aapicommission.org/upcoming-event/hawaii-ohana-at-northeastern-university/
LOCATION:Suffolk County\, United States
CATEGORIES:Community Organizations
ATTACH;FMTTYPE=image/png:https://aapicommission.org/wp-content/uploads/2024/06/Untitled-design.png
ORGANIZER;CN="Student":MAILTO:northeastern.honu@gmail.com
END:VEVENT
BEGIN:VEVENT
DTSTART;VALUE=DATE:20240624
DTEND;VALUE=DATE:20240625
DTSTAMP:20260419T110156
CREATED:20240624T133859Z
LAST-MODIFIED:20251107T082816Z
UID:13857-1719187200-1719273599@aapicommission.org
SUMMARY:Hui Lehua
DESCRIPTION:Hui Lehua ‘O Kamawila is a collaborative hula group dedicated to preserving and sharing Hawai`ian dance traditions in New England.\nThe dancers take their name from the lehua flower which blooms in adverse conditions\, including cooling lava flows.
URL:https://aapicommission.org/upcoming-event/hui-lehua/
LOCATION:Middlesex County\, 124 Ferry Street\, Malden\, Middlesex County\, MA 02148\, United States
CATEGORIES:Community Organizations
ATTACH;FMTTYPE=image/png:https://aapicommission.org/wp-content/uploads/2024/06/Untitled-design.png
ORGANIZER;CN="Arts & Media":MAILTO:huilehua@gmail.com
END:VEVENT
BEGIN:VEVENT
DTSTART;VALUE=DATE:20240624
DTEND;VALUE=DATE:20240625
DTSTAMP:20260419T110156
CREATED:20240624T134056Z
LAST-MODIFIED:20251107T082816Z
UID:13861-1719187200-1719273599@aapicommission.org
SUMMARY:Immigrant Learning Center
DESCRIPTION:The Immigrant Learning Center\, Inc. (ILC) of Malden\, MA\, is a not-for-profit organization that gives immigrants a voice in three ways: the English Language Program\, the Public Education Institute\, and the Institute for Immigration Research.
URL:https://aapicommission.org/upcoming-event/immigrant-learning-center/
LOCATION:Middlesex County\, 124 Ferry Street\, Malden\, Middlesex County\, MA 02148\, United States
CATEGORIES:Community Organizations
ATTACH;FMTTYPE=image/png:https://aapicommission.org/wp-content/uploads/2024/06/Untitled-design.png
ORGANIZER;CN="Support":MAILTO:info@ilctr.org
END:VEVENT
BEGIN:VEVENT
DTSTART;VALUE=DATE:20240624
DTEND;VALUE=DATE:20240625
DTSTAMP:20260419T110156
CREATED:20240624T134256Z
LAST-MODIFIED:20251107T082816Z
UID:13865-1719187200-1719273599@aapicommission.org
SUMMARY:India Association of Greater Boston
DESCRIPTION:IAGB is an Indian-American community organization dedicated to civic\, community\, social and cultural causes
URL:https://aapicommission.org/upcoming-event/india-association-of-greater-boston/
LOCATION:Middlesex County\, 124 Ferry Street\, Malden\, Middlesex County\, MA 02148\, United States
CATEGORIES:Community Organizations
ATTACH;FMTTYPE=image/png:https://aapicommission.org/wp-content/uploads/2024/06/Untitled-design.png
ORGANIZER;CN="Community":MAILTO:iagb@iagb.org
END:VEVENT
BEGIN:VEVENT
DTSTART;VALUE=DATE:20240624
DTEND;VALUE=DATE:20240625
DTSTAMP:20260419T110156
CREATED:20240624T134453Z
LAST-MODIFIED:20251107T082816Z
UID:13872-1719187200-1719273599@aapicommission.org
SUMMARY:India Society of Worcester
DESCRIPTION:The India Society of Worcester\, affectionately known as the ISW\, is one of New England’s most vibrant Indian associations. It is primarily a cultural\, social\, educational and charitable organization. The ISW’s purpose is to encourage people with ancestral origin in India or people who are otherwise interested in India\, to form an effective and cohesive group with the objective of retaining\, facilitating\, and fostering the cultural heritage of India; including ethnic arts\, languages and religions of its people. The society adds to the richness of the cultural diversity of the region and is a window into the cultural heritage of India for the local community. The ISW is non-political and non-sectarian. It does not subscribe to any one religion and does not discriminate against any person because of his or her religious beliefs or ethnic background.
URL:https://aapicommission.org/upcoming-event/india-society-of-worcester/
LOCATION:Worcester County\, Fitchburg\, Worcester County\, MA 01420\, United States
CATEGORIES:Community Organizations
ATTACH;FMTTYPE=image/png:https://aapicommission.org/wp-content/uploads/2024/06/Untitled-design.png
ORGANIZER;CN="Community":MAILTO:president@iswonline.org
END:VEVENT
BEGIN:VEVENT
DTSTART;VALUE=DATE:20240624
DTEND;VALUE=DATE:20240625
DTSTAMP:20260419T110156
CREATED:20240624T143314Z
LAST-MODIFIED:20251107T082758Z
UID:13879-1719187200-1719273599@aapicommission.org
SUMMARY:Iskwelahang Pilipino
DESCRIPTION:Iskwelahang Pilipino (IP) is a non-profit Filipino cultural school that brings together families from the Greater Boston area who share a connection to the Philippines. IP was founded over 40 years ago (1976) by a group of parents and educators. We offer families a welcoming community that embraces Filipino culture and provides Filipino American children with the opportunity to learn about their Filipino heritage in a nurturing environment. Our vibrant\, actively engaged community is made up of parents\, students\, alumni\, friends and supporters of IP from immigrant families\, second and third generation Filipino American families\, adoptive and multiracial families.
URL:https://aapicommission.org/upcoming-event/iskwelahang-pilipino/
LOCATION:Middlesex County\, 124 Ferry Street\, Malden\, Middlesex County\, MA 02148\, United States
CATEGORIES:Community Organizations
ATTACH;FMTTYPE=image/png:https://aapicommission.org/wp-content/uploads/2024/06/Untitled-design.png
ORGANIZER;CN="Community":MAILTO:IPBostonRondalla@gmail.com
END:VEVENT
BEGIN:VEVENT
DTSTART;VALUE=DATE:20240624
DTEND;VALUE=DATE:20240625
DTSTAMP:20260419T110156
CREATED:20240624T143545Z
LAST-MODIFIED:20251107T082758Z
UID:13904-1719187200-1719273599@aapicommission.org
SUMMARY:JB Line
DESCRIPTION:JB Line was established on October 26\, 2010 to help Japanese immigrants and their families\, who currently reside in New England and address problems they encounter in their lives.
URL:https://aapicommission.org/upcoming-event/jb-line/
LOCATION:Middlesex County\, 124 Ferry Street\, Malden\, Middlesex County\, MA 02148\, United States
CATEGORIES:Community Organizations
ATTACH;FMTTYPE=image/png:https://aapicommission.org/wp-content/uploads/2024/06/default-profile-1-1.png
ORGANIZER;CN="Community":MAILTO:help@jbline.org
END:VEVENT
BEGIN:VEVENT
DTSTART;VALUE=DATE:20240624
DTEND;VALUE=DATE:20240625
DTSTAMP:20260419T110156
CREATED:20240624T143851Z
LAST-MODIFIED:20251107T082815Z
UID:13917-1719187200-1719273599@aapicommission.org
SUMMARY:Khmer Post
DESCRIPTION:The KhmerPost USA\, LLC is an independent newspaper that aims to facilitate mass communication among the Cambodian communities\, their neighboring communities\, and families. We aim to address local\, community\, and national news; and give an insight into Cambodia & global news.
URL:https://aapicommission.org/upcoming-event/khmer-post/
LOCATION:National\, 1160 Battery Street East\, Suite 100\, San Francisco\, National\, CA 94111\, United States
CATEGORIES:Community Organizations
ATTACH;FMTTYPE=image/png:https://aapicommission.org/wp-content/uploads/2024/06/Untitled-design.png
ORGANIZER;CN="Arts & Media":MAILTO:sobenpin@khmerpostusa.com
END:VEVENT
BEGIN:VEVENT
DTSTART;VALUE=DATE:20240624
DTEND;VALUE=DATE:20240625
DTSTAMP:20260419T110156
CREATED:20240624T144054Z
LAST-MODIFIED:20251107T082816Z
UID:13924-1719187200-1719273599@aapicommission.org
SUMMARY:Korean American Citizens League - NE
DESCRIPTION:Founded in 1990\, KACL is a nonpartisan nonprofit organization whose mission is to engage and build political awareness and advancement of the Korean-American community in New England.
URL:https://aapicommission.org/upcoming-event/korean-american-citizens-league-ne/
LOCATION:Middlesex County\, 124 Ferry Street\, Malden\, Middlesex County\, MA 02148\, United States
CATEGORIES:Community Organizations
ATTACH;FMTTYPE=image/png:https://aapicommission.org/wp-content/uploads/2024/06/Untitled-design.png
ORGANIZER;CN="Community":MAILTO:info@kacl-ne.org
END:VEVENT
BEGIN:VEVENT
DTSTART;VALUE=DATE:20240624
DTEND;VALUE=DATE:20240625
DTSTAMP:20260419T110156
CREATED:20240624T144306Z
LAST-MODIFIED:20251107T082816Z
UID:13934-1719187200-1719273599@aapicommission.org
SUMMARY:Korean Cultural Society of Boston
DESCRIPTION:Founded in October\, 2012\, the Korean Cultural Society of Boston (KCSB) is a 501(c)(3) nonprofit organization and provides opportunities for the Greater Boston area to learn and engage with arts\, culture\, and heritage of Korea while simultaneously empowering and promoting the Korean American community.​
URL:https://aapicommission.org/upcoming-event/korean-cultural-society-of-boston/
LOCATION:Middlesex County\, 124 Ferry Street\, Malden\, Middlesex County\, MA 02148\, United States
CATEGORIES:Community Organizations
ATTACH;FMTTYPE=image/png:https://aapicommission.org/wp-content/uploads/2024/06/Untitled-design.png
ORGANIZER;CN="Community":MAILTO:info@kcsboston.org
END:VEVENT
BEGIN:VEVENT
DTSTART;VALUE=DATE:20240624
DTEND;VALUE=DATE:20240625
DTSTAMP:20260419T110156
CREATED:20240624T144500Z
LAST-MODIFIED:20251107T082816Z
UID:13938-1719187200-1719273599@aapicommission.org
SUMMARY:Liyang Network Western Massachusetts
DESCRIPTION:Our purpose is to provide public education on the role of indigenous activism in environmental protection and food sovereignty\, and to encourage cross- community dialogue\, projects\, and fundraising efforts across Western Mass. We build bridges between local groups and individuals (indigenous and non-indigenous) and draw inspiration and concrete lessons from the work of Lumad community led schools in the Philippines\, based on the principals of sustainable\, organic agriculture\, holistic health\, and culturally responsive academics. Fundamentally\, we believe that indigenous knowledge is central to environmental conservation and climate resiliency\, and strive to bring this perspective into a diverse range of community partners. We formed this group after a group of indigenous school teachers and activists from the Philippines came to Western Massachussetts in 2017 to meet with Native scholars & community members\, environmental organizations\, and communities of color. In 2018 and 2019\, individuals and groups of community members\,including students\, environmental activists\, community educators\, and Native people fundraised and sent representatives to travel to the Philippines to deepen their exchange with Lumad communities. In August of 2019\, a core group of 8 people came together to form Liyang Western Mass. Since then\, we have organized educational events in Western Mass (Springfield\, Amherst\, Holyoke\, Northampton)\, Vermont and New York.
URL:https://aapicommission.org/upcoming-event/liyang-network-western-massachusetts/
LOCATION:Hampshire County\, 130 Hicks Way\, Amherst\, Hampshire County\, MA 01003\, United States
CATEGORIES:Community Organizations
ATTACH;FMTTYPE=image/png:https://aapicommission.org/wp-content/uploads/2024/06/Untitled-design.png
END:VEVENT
BEGIN:VEVENT
DTSTART;VALUE=DATE:20240624
DTEND;VALUE=DATE:20240625
DTSTAMP:20260419T110156
CREATED:20240624T144653Z
LAST-MODIFIED:20251107T082815Z
UID:13945-1719187200-1719273599@aapicommission.org
SUMMARY:Lokvani
DESCRIPTION:Lokvani’ translated literally means ‘Public Voice’. We aim to serve the Indian community in New England through this website.
URL:https://aapicommission.org/upcoming-event/lokvani/
LOCATION:Statewide\, MA\, United States
CATEGORIES:Community Organizations
ATTACH;FMTTYPE=image/png:https://aapicommission.org/wp-content/uploads/2024/06/Untitled-design.png
ORGANIZER;CN="Arts & Media":MAILTO:info@lokvani.com
END:VEVENT
BEGIN:VEVENT
DTSTART;VALUE=DATE:20240624
DTEND;VALUE=DATE:20240625
DTSTAMP:20260419T110156
CREATED:20240624T144902Z
LAST-MODIFIED:20251107T082815Z
UID:13949-1719187200-1719273599@aapicommission.org
SUMMARY:Lowell Community Health Center
DESCRIPTION:The Health Center has served the communities of Greater Lowell since 1970. In addition to providing comprehensive primary health care\, dental services\, and eye care\, we also offer many specialty services. No one is ever turned away due to inability to pay.
URL:https://aapicommission.org/upcoming-event/lowell-community-health-center/
LOCATION:Middlesex County\, 124 Ferry Street\, Malden\, Middlesex County\, MA 02148\, United States
CATEGORIES:Community Organizations
ATTACH;FMTTYPE=image/png:https://aapicommission.org/wp-content/uploads/2024/06/Untitled-design.png
END:VEVENT
BEGIN:VEVENT
DTSTART;VALUE=DATE:20240624
DTEND;VALUE=DATE:20240625
DTSTAMP:20260419T110156
CREATED:20240624T145043Z
LAST-MODIFIED:20251107T082815Z
UID:13954-1719187200-1719273599@aapicommission.org
SUMMARY:Malaya Movement - Massachusetts Chapter
DESCRIPTION:Advocating for Human Rights\, Democracy\, and Sovereignty in the Philippines
URL:https://aapicommission.org/upcoming-event/malaya-movement-massachusetts-chapter/
LOCATION:Middlesex County\, 124 Ferry Street\, Malden\, Middlesex County\, MA 02148\, United States
CATEGORIES:Community Organizations
ATTACH;FMTTYPE=image/png:https://aapicommission.org/wp-content/uploads/2024/06/Untitled-design.png
ORGANIZER;CN="Political/Advocacy":MAILTO:malaya.massachusetts@gmail.com
END:VEVENT
BEGIN:VEVENT
DTSTART;VALUE=DATE:20240624
DTEND;VALUE=DATE:20240625
DTSTAMP:20260419T110156
CREATED:20240624T145224Z
LAST-MODIFIED:20251107T082758Z
UID:13958-1719187200-1719273599@aapicommission.org
SUMMARY:Manoa Poke
DESCRIPTION:Manoa Poke is a local Pacific Islander owned small business that is involved in local Pacific Islander communities
URL:https://aapicommission.org/upcoming-event/manoa-poke/
LOCATION:Middlesex County\, 124 Ferry Street\, Malden\, Middlesex County\, MA 02148\, United States
CATEGORIES:Community Organizations
ATTACH;FMTTYPE=image/png:https://aapicommission.org/wp-content/uploads/2024/06/Untitled-design.png
ORGANIZER;CN="Community":MAILTO:jacob@manoa.fish
END:VEVENT
BEGIN:VEVENT
DTSTART;VALUE=DATE:20240624
DTEND;VALUE=DATE:20240625
DTSTAMP:20260419T110156
CREATED:20240624T145433Z
LAST-MODIFIED:20251107T082815Z
UID:13962-1719187200-1719273599@aapicommission.org
SUMMARY:Massachusetts Asian and Pacific Islanders (MAP) for Health
DESCRIPTION:The Massachusetts Asian & Pacific Islanders (MAP) For Health aim to empower and uplift the LGBTQ+ API population in the Greater Boston area. As a nonprofit organization\, we are dedicated to fostering an inclusive community\, promoting social equity\, and advocating for the overall well-being of individuals within this beautifully diverse population.
URL:https://aapicommission.org/upcoming-event/massachusetts-asian-and-pacific-islanders-map-for-health/
LOCATION:Suffolk County\, United States
CATEGORIES:Community Organizations
ATTACH;FMTTYPE=image/png:https://aapicommission.org/wp-content/uploads/2024/06/Untitled-design.png
ORGANIZER;CN="Community":MAILTO:map@maphealth.org
END:VEVENT
BEGIN:VEVENT
DTSTART;VALUE=DATE:20240624
DTEND;VALUE=DATE:20240625
DTSTAMP:20260419T110156
CREATED:20240624T145629Z
LAST-MODIFIED:20251107T082757Z
UID:13972-1719187200-1719273599@aapicommission.org
SUMMARY:Massachusetts Baptist Multicultural Ministries (MBMM)
DESCRIPTION:MBMM works at the grassroots level with refugee communities in the areas of advocacy. Our goal is that refugees seamlessly achieve a path to self-sufficiency\, inclusion\, and become active citizens in their new communities. We are active in Somalian\, Congolese\, Burmese\, Bhutanese\, and Iraqi refugee communities in the Middlesex and Suffolk counties.
URL:https://aapicommission.org/upcoming-event/massachusetts-baptist-multicultural-ministries-mbmm/
LOCATION:Middlesex County\, 124 Ferry Street\, Malden\, Middlesex County\, MA 02148\, United States
CATEGORIES:Community Organizations
ATTACH;FMTTYPE=image/png:https://aapicommission.org/wp-content/uploads/2024/06/Untitled-design.png
ORGANIZER;CN="Support":MAILTO:mbmm@mbmm.org
END:VEVENT
BEGIN:VEVENT
DTSTART;VALUE=DATE:20240624
DTEND;VALUE=DATE:20240625
DTSTAMP:20260419T110156
CREATED:20240624T145839Z
LAST-MODIFIED:20251107T082757Z
UID:13979-1719187200-1719273599@aapicommission.org
SUMMARY:Massachusetts Institute of Technology Asian American Initiative
DESCRIPTION:The Asian American Initiative strives\, through action and education\, to promote Asian American advocacy on the MIT campus and beyond. Our club aims to provide a safe space to discuss the building blocks and facets of Asian American identity\, create a platform to bring light to issues affecting the Asian American community\, and improve the Asian American experience on and off campus\, while supporting other marginalized groups. Our club stands in solidarity and allyship with other marginalized groups\, with founding beliefs against oppressive systems such as racism\, homophobia\, xenophobia\, classism\, ableism\, and sexism.
URL:https://aapicommission.org/upcoming-event/massachusetts-institute-of-technology-asian-american-initiative/
LOCATION:Middlesex County\, 124 Ferry Street\, Malden\, Middlesex County\, MA 02148\, United States
CATEGORIES:Community Organizations
ATTACH;FMTTYPE=image/png:https://aapicommission.org/wp-content/uploads/2024/06/Untitled-design.png
ORGANIZER;CN="Student":MAILTO:aai-exec@mit.edu
END:VEVENT
BEGIN:VEVENT
DTSTART;VALUE=DATE:20240624
DTEND;VALUE=DATE:20240625
DTSTAMP:20260419T110157
CREATED:20240624T150057Z
LAST-MODIFIED:20251107T082757Z
UID:13983-1719187200-1719273599@aapicommission.org
SUMMARY:Matahari
DESCRIPTION:Matahari is a grassroots organization working to end the exploitation of women and femme workers through labor organizing of domestic workers (and restaurant workers since 2021). It has grown into the largest non-union community organization representing women workers in Massachusetts.
URL:https://aapicommission.org/upcoming-event/matahari/
LOCATION:Suffolk County\, United States
CATEGORIES:Community Organizations
ATTACH;FMTTYPE=image/png:https://aapicommission.org/wp-content/uploads/2024/06/Untitled-design.png
ORGANIZER;CN="Political/Advocacy":MAILTO:info@mataharijustice.org
END:VEVENT
BEGIN:VEVENT
DTSTART;VALUE=DATE:20240624
DTEND;VALUE=DATE:20240625
DTSTAMP:20260419T110157
CREATED:20240624T150321Z
LAST-MODIFIED:20251107T082757Z
UID:13990-1719187200-1719273599@aapicommission.org
SUMMARY:Metta Health Center
DESCRIPTION:Metta Health Center is a compassionate healthcare sanctuary for refugees\, asylum seekers\, and all who have been forcibly displaced. Founded to serve the unique needs of Lowell’s Cambodian\, Vietnamese\, and Laotian communities\, Metta has evolved to embrace individuals from across the globe\, offering a holistic approach to health that respects and integrates cultural backgrounds.
URL:https://aapicommission.org/upcoming-event/metta-health-center/
LOCATION:Middlesex County\, 124 Ferry Street\, Malden\, Middlesex County\, MA 02148\, United States
CATEGORIES:Community Organizations
ATTACH;FMTTYPE=image/png:https://aapicommission.org/wp-content/uploads/2024/06/Untitled-design.png
END:VEVENT
BEGIN:VEVENT
DTSTART;VALUE=DATE:20240624
DTEND;VALUE=DATE:20240625
DTSTAMP:20260419T110157
CREATED:20240624T150519Z
LAST-MODIFIED:20251107T082757Z
UID:13994-1719187200-1719273599@aapicommission.org
SUMMARY:Middlesex Community College Program for Asian American Student Advancement
DESCRIPTION:The Program for Asian American Student Advancement offers students with a holistic support system with dedicated staff that advises\, mentors and provides leadership development opportunities for Asian American students.
URL:https://aapicommission.org/upcoming-event/middlesex-community-college-program-for-asian-american-student-advancement/
LOCATION:Middlesex County\, 124 Ferry Street\, Malden\, Middlesex County\, MA 02148\, United States
CATEGORIES:Community Organizations
ATTACH;FMTTYPE=image/png:https://aapicommission.org/wp-content/uploads/2024/06/Untitled-design.png
ORGANIZER;CN="Student":MAILTO:PAASA@middlesex.mass.edu
END:VEVENT
BEGIN:VEVENT
DTSTART;VALUE=DATE:20240624
DTEND;VALUE=DATE:20240625
DTSTAMP:20260419T110157
CREATED:20240624T150714Z
LAST-MODIFIED:20251107T082757Z
UID:14001-1719187200-1719273599@aapicommission.org
SUMMARY:Mount Holyoke College Asian Center for Empowerment
DESCRIPTION:Located at 15 Woodbridge Street\, the Asian Center for Empowerment\, commonly known as the “ACE\,” serves as a space that provides support\, education\, community and a meeting spot for students within the Asian diaspora (including\, but not limited to\, Asian\, Asian American and South Asian).
URL:https://aapicommission.org/upcoming-event/mount-holyoke-college-asian-center-for-empowerment/
LOCATION:Hampshire County\, 130 Hicks Way\, Amherst\, Hampshire County\, MA 01003\, United States
CATEGORIES:Community Organizations
ATTACH;FMTTYPE=image/png:https://aapicommission.org/wp-content/uploads/2024/06/Untitled-design.png
END:VEVENT
END:VCALENDAR